BEGIN:VCALENDAR
VERSION:2.0
PRODID:-//Kweektuin Haarlem - ECPv6.15.18//NONSGML v1.0//EN
CALSCALE:GREGORIAN
METHOD:PUBLISH
X-WR-CALNAME:Kweektuin Haarlem
X-ORIGINAL-URL:https://www.haarlemmerkweektuin.nl
X-WR-CALDESC:Evenementen voor Kweektuin Haarlem
REFRESH-INTERVAL;VALUE=DURATION:PT1H
X-Robots-Tag:noindex
X-PUBLISHED-TTL:PT1H
BEGIN:VTIMEZONE
TZID:Europe/Amsterdam
BEGIN:DAYLIGHT
TZOFFSETFROM:+0100
TZOFFSETTO:+0200
TZNAME:CEST
DTSTART:20220327T010000
END:DAYLIGHT
BEGIN:STANDARD
TZOFFSETFROM:+0200
TZOFFSETTO:+0100
TZNAME:CET
DTSTART:20221030T010000
END:STANDARD
BEGIN:DAYLIGHT
TZOFFSETFROM:+0100
TZOFFSETTO:+0200
TZNAME:CEST
DTSTART:20230326T010000
END:DAYLIGHT
BEGIN:STANDARD
TZOFFSETFROM:+0200
TZOFFSETTO:+0100
TZNAME:CET
DTSTART:20231029T010000
END:STANDARD
BEGIN:DAYLIGHT
TZOFFSETFROM:+0100
TZOFFSETTO:+0200
TZNAME:CEST
DTSTART:20240331T010000
END:DAYLIGHT
BEGIN:STANDARD
TZOFFSETFROM:+0200
TZOFFSETTO:+0100
TZNAME:CET
DTSTART:20241027T010000
END:STANDARD
END:VTIMEZONE
BEGIN:VEVENT
DTSTART;TZID=Europe/Amsterdam:20231028T113000
DTEND;TZID=Europe/Amsterdam:20231104T150000
DTSTAMP:20260423T235234
CREATED:20231102T162453Z
LAST-MODIFIED:20231102T162844Z
UID:4176-1698492600-1699110000@www.haarlemmerkweektuin.nl
SUMMARY:EcoTrip en De Groene Man
DESCRIPTION:Tweede editie EcoTrip – 28 oktober t/m 5 november 2023 \nEcoTrip is een jaarlijks festival op het snijvlak van cultuur en klimaat. \nVier de herfst met Muziektheater De Groene Man\, bij festival ECOTRIP in de Haarlemmer Kweektuin. \nZaterdag 4 november\, 11:30 en 14:00. Duur ca. 30min. Gratis Toegang. \nMeer informatie op https://www.ecotripfestival.nl.
URL:https://www.haarlemmerkweektuin.nl/agenda/ecotrip-en-de-groene-man/
LOCATION:Haarlemmer Kweektuin\, Kleverlaan 9\, Haarlem\, Noord-Holland\, 2023 JC\, Nederland
ATTACH;FMTTYPE=image/png:https://www.haarlemmerkweektuin.nl/wp-content/uploads/2023/10/Ecotrip_logo_Kleur-2825094205.png
END:VEVENT
END:VCALENDAR