BEGIN:VCALENDAR
VERSION:2.0
PRODID:-//Kweektuin Haarlem - ECPv6.15.18//NONSGML v1.0//EN
CALSCALE:GREGORIAN
METHOD:PUBLISH
X-WR-CALNAME:Kweektuin Haarlem
X-ORIGINAL-URL:https://www.haarlemmerkweektuin.nl
X-WR-CALDESC:Evenementen voor Kweektuin Haarlem
REFRESH-INTERVAL;VALUE=DURATION:PT1H
X-Robots-Tag:noindex
X-PUBLISHED-TTL:PT1H
BEGIN:VTIMEZONE
TZID:Europe/Amsterdam
BEGIN:DAYLIGHT
TZOFFSETFROM:+0100
TZOFFSETTO:+0200
TZNAME:CEST
DTSTART:20220327T010000
END:DAYLIGHT
BEGIN:STANDARD
TZOFFSETFROM:+0200
TZOFFSETTO:+0100
TZNAME:CET
DTSTART:20221030T010000
END:STANDARD
BEGIN:DAYLIGHT
TZOFFSETFROM:+0100
TZOFFSETTO:+0200
TZNAME:CEST
DTSTART:20230326T010000
END:DAYLIGHT
BEGIN:STANDARD
TZOFFSETFROM:+0200
TZOFFSETTO:+0100
TZNAME:CET
DTSTART:20231029T010000
END:STANDARD
BEGIN:DAYLIGHT
TZOFFSETFROM:+0100
TZOFFSETTO:+0200
TZNAME:CEST
DTSTART:20240331T010000
END:DAYLIGHT
BEGIN:STANDARD
TZOFFSETFROM:+0200
TZOFFSETTO:+0100
TZNAME:CET
DTSTART:20241027T010000
END:STANDARD
BEGIN:DAYLIGHT
TZOFFSETFROM:+0100
TZOFFSETTO:+0200
TZNAME:CEST
DTSTART:20250330T010000
END:DAYLIGHT
BEGIN:STANDARD
TZOFFSETFROM:+0200
TZOFFSETTO:+0100
TZNAME:CET
DTSTART:20251026T010000
END:STANDARD
END:VTIMEZONE
BEGIN:VEVENT
DTSTART;TZID=Europe/Amsterdam:20240524T150000
DTEND;TZID=Europe/Amsterdam:20240524T170000
DTSTAMP:20260423T224504
CREATED:20240522T102432Z
LAST-MODIFIED:20240524T052302Z
UID:7285-1716562800-1716570000@www.haarlemmerkweektuin.nl
SUMMARY:Feestelijke opening van de kunst expositie 'Leven in Kweek'
DESCRIPTION:De opening begint 24 mei om 15:00 uur bij het Kweekcafé\nDe jonge Haarlemse kunstenares Sophia Bernson heeft afgelopen maand de wilde dieren in de Haarlemmer Kweektuinen geobserveerd en dit vertaald in prachtige kunst.\nTijdens de opening van de expositie zal ze haar werk toelichten onder begeleiding van akoestische muziek. Het belooft een feestje te worden! \nHaar werk zal vanaf 24 mei voor 3 maanden te koop en ter expositie hangen in het café. \n 
URL:https://www.haarlemmerkweektuin.nl/agenda/feestelijke-opening-van-de-kunst-expositie-leven-in-kweek/
LOCATION:Haarlemmer Kweektuin\, Kleverlaan 9\, Haarlem\, Noord-Holland\, 2023 JC\, Nederland
ATTACH;FMTTYPE=image/jpeg:https://www.haarlemmerkweektuin.nl/wp-content/uploads/2024/05/sophia-bernson-kopie.jpg
END:VEVENT
BEGIN:VEVENT
DTSTART;TZID=Europe/Amsterdam:20240420T100000
DTEND;TZID=Europe/Amsterdam:20240420T160000
DTSTAMP:20260423T224504
CREATED:20240416T115634Z
LAST-MODIFIED:20240416T125651Z
UID:5999-1713607200-1713628800@www.haarlemmerkweektuin.nl
SUMMARY:Springer Festival
DESCRIPTION:Tijdens het Springer Festival op 20 april is de grootste biologische plantenmarkt van Haarlem in de Kweektuin. Ook zijn er inspirerende lezingen\, workshops en andere activiteiten voor een groene Haarlemse lente.\nElk jaar is in de Kweektuin een lentemarkt met het grootste aanbod van biologische planten\, bloembollen en zaden in de regio. Vanaf nu is de markt onderdeel van Het Springer Festival\, met allerlei workshops\, lezingen en activiteiten. Het doel: de lente vieren én naar huis gaan met inspiratie\, informatie en ideeën voor meer groen in jouw stad. \nEr is onder andere gratis tuinontwerpadvies door studenten van de Ontwerpacademie. En hoe zorg je dat je tuin klaar is voor zware regenbuien of droogte? Schrijver\, tuinontwerper en milieudeskundige Iris Veltman vertelt hoe je tuin als een spons kan werken. Zulke sponstuinen helpen heel Haarlem\, want ze voorkomen wateroverlast. \nAndere activiteiten:\nWorkshop Wormenhotel bouwen\nLezingen over bloemen en bijen\nPresentaties door o.a. de stadsecoloog\, de Egelopvang\, Vogelwerkgroep Zuid- Kennemerland\nKweektuinsafari met een ecoloog\nWildplukwandeling\nNo waste-kookdemonstraties : door School of Food\nWorkshop botanisch tekenen\nEducatieve kinderactiviteiten\nEten\, drinken en livemuziek \nTijd: Zaterdag 20 april 10:00-16:00\nLocatie: Kleverlaan 11 in Haarlem\nVoor meer informatie\, klik hier. \nThema: (w)elke plant telt?!\nHet Springer Festival laat zien hoe we de stad groener kunnen maken en wat je daarvoor zelf kunt doen. Meer planten in\, bij of aan je huis leveren meer op dan alleen een mooie\, groene stad. Ten eerste: elk plant telt voor meer biodiversiteit. Meer biodiversiteit betekent dat er veel verschillende dieren en planten in Haarlem kunnen leven. Ten tweede: een groenere stad kan beter omgaan met de gevolgen van klimaatverandering. De stad wordt zo ‘klimaatbestendig’. Tijdens het Springer Festival ontdekken bezoekers dat elke plant telt. En ook: wélke planten extra slim zijn en wat past bij de persoonlijke situatie\, smaak en mogelijkheden. \nOver de naam Springer Festival\nLeonard Springer (1855-1940) was een beroemd tuinarchitect. Tussen 1900 en 1920 heeft hij als adviseur van de Hout- en Plantsoenendienst veel betekend voor het groen in de stad. Zo is Springer de bedenker en oprichter van de Haarlemmer Kweektuin. In de Springertuin zie je zijn ideeën over het belang van groen voor de stad tot op de dag van vandaag terug.\n\nLocaties\nWe hebben drie locaties waar activiteiten plaatsvinden. De locaties staan aangegeven op onderstaande kaart. \n1. Palmenkas\n2. Activiteiten plein\n3. Podiumtent \n \n  \n \nOrganisatie\nHet Springer Festival is een initiatief van het team van Natuur- en Milieueducatie (NME). NME hoort bij de Gemeente Haarlem. We werken samen met inwoners van jong tot oud aan een groene\, schone en duurzame stad.
URL:https://www.haarlemmerkweektuin.nl/agenda/springer-festival/
LOCATION:Haarlemmer Kweektuin\, Kleverlaan 9\, Haarlem\, Noord-Holland\, 2023 JC\, Nederland
ATTACH;FMTTYPE=image/png:https://www.haarlemmerkweektuin.nl/wp-content/uploads/2024/04/GH-springer-1.png
END:VEVENT
BEGIN:VEVENT
DTSTART;TZID=Europe/Amsterdam:20240413T100000
DTEND;TZID=Europe/Amsterdam:20240413T140000
DTSTAMP:20260423T224504
CREATED:20240412T134315Z
LAST-MODIFIED:20240412T140710Z
UID:5960-1713002400-1713016800@www.haarlemmerkweektuin.nl
SUMMARY:Zaterdag 13 april Tegelwipactiedag
DESCRIPTION:Zaterdag 13 april Tegelwipactiedag in de Haarlemmer Kweektuin\, met bezoek van wethouder Robbert Berkhout!\nHet klimaat verandert snel. Ook in Haarlem merken we steeds meer van de gevolgen. We krijgen vaker te maken met extreme regenbuien. Maar we moeten ons ook voorbereiden op lange periodes van hitte en droogte. Door slimme maatregelen te nemen kunnen we samen de stad aanpassen aan het veranderende klimaat. \nMinder tegels en meer groen in de stad helpen om wateroverlast door heftige buien tegen te gaan. Het water kan zo sneller de grond in en er is meer plek voor planten om te groeien.  \nPlanten en bloemen trekken vogels\, vlinders\, bijen\, egels en insecten aan en vergroten de biodiversiteit. Bomen zorgen voor verkoeling bij hitte. Een groene buurt draagt bij aan een leefbare stad. \nWat kun jij doen?\nWip tegels uit je eigen voor- en/of achtertuin\, breng je tegels weg\, je krijgt er biologische planten voor terug! \nWaar en wanneer?\nOp zaterdag 13 april tussen 10.00 en 14.00 uur bij de Kweektuin. \nNB: De Haarlemse wethouder Wethouder Klimaat & Energie\, Vergroenen & Openbare Ruimte en (Circulaire) Economie komt langs bij de Kweektuin om het tegelwippen bij te wonen. Hij zal er rond 10:45 zijn.
URL:https://www.haarlemmerkweektuin.nl/agenda/zaterdag-13-april-tegelwipactiedag/
LOCATION:Haarlemmer Kweektuin\, Kleverlaan 9\, Haarlem\, Noord-Holland\, 2023 JC\, Nederland
ATTACH;FMTTYPE=image/png:https://www.haarlemmerkweektuin.nl/wp-content/uploads/2024/04/tegels.png
END:VEVENT
BEGIN:VEVENT
DTSTART;TZID=Europe/Amsterdam:20240413T100000
DTEND;TZID=Europe/Amsterdam:20240413T100000
DTSTAMP:20260423T224504
CREATED:20240306T161658Z
LAST-MODIFIED:20240405T105602Z
UID:5635-1713002400-1713002400@www.haarlemmerkweektuin.nl
SUMMARY:Repair Cafe\, Kweektuin\, 13 april
DESCRIPTION:REPAIR CAFE Haarlemmer Kweektuin 13 april 2024\nNooit eerder in de westerse wereld bezaten mensen zo veel voorwerpen als nu. In nog geen honderd jaar tijd is rijkdom eerder regel dan uitzondering geworden.\nWie nu geboren wordt\, groeit veelal op in een wereld van overvloed.\nWe kopen bijvoorbeeld nieuwe wandelschoenen\, want een nieuw paar is bijna net zo duur als verzolen\nOnze huizen staan vol met spullen\, we hebben een overvloed aan elektrische apparaten die we eigenlijk nauwelijks gebruiken\, op de oprit staat vaak meer dan een auto per huishouden\, kinderen hebben bergen speelgoed.\nMaar de vis wordt duur betaald. Wie aan de achterkant van de samenleving kijkt\, ziet waar het wringt: in 2022 gooiden we 21 kilo aan apparaten en 11 kilo aan textiel weg\, per persoon! Vaak niet omdat het moet\, maar omdat het kan. \nStichting Repaircafé heeft goede hoop om meer mensen bewust te maken van het feit dat veel spullen een tweede leven kunnen krijgen na een (soms heel simpele) reparatie. Het milieu vaart er wel bij. Repareren dus in plaats van weggooien! \nIn de Haarlemmer Kweektuin komt er een nieuw repaircafé!\nDeze start op 13 april a.s. om 10:00 uur en zal dan elke 2e zaterdag van de maand plaatsvinden. \nIn de kas staan diverse enthousiaste reparateurs klaar met verstand van fietsen\, elektrische apparaten\, computers\, knuffels en kleding.\nKijkt u ook thuis of er spullen zijn die u nog langer wilt houden maar waar nou net iets aan stuk is\, ontbreekt\, hapert?\nKom dan gezellig naar het repaircafé in de Haarlemmer Kweektuin! \nWat kun je verwachten?\nOnze vrijwilligers helpen u waar nodig graag uitzoeken wat precies het probleem is\, om vervolgens met kleine reparaties\, zoals het solderen van een loszittende draad of het leren plakken van je fietsband\, weer verder te kunnen zonder aanschaf van iets nieuws! Ook een loszittende stoelpoot\, een houten hobbelpaard of ander speelgoed\, kan zo een tweede leven krijgen! \nWat doen de reparateurs bv niet? Het inkorten van uw broek doen wij niet\, daar kunt u voor terecht bij de winkel of een naaiatelier.  Een gat in uw broek echter wordt in het repaircafé wél juist opzichtig leuk of zo onzichtbaar mogelijk gerepareerd.  \nEventuele onderdelen die vervangen moeten worden neemt u zelf mee of regelt u in overleg met de reparateur. \nU hoeft zich niet van tevoren in te schrijven. \nAdres: Kleverlaan 9 2023 JC Haarlem.\nVoor vragen mail naar: repaircafe@haarlemmerkweektuin.nl\nVoor meer informatie over het repaircafé: www.repaircafe.org \n  \n 
URL:https://www.haarlemmerkweektuin.nl/agenda/repair-cafe-kweektuin-13-april/
LOCATION:Haarlemmer Kweektuin\, Kleverlaan 9\, Haarlem\, Noord-Holland\, 2023 JC\, Nederland
ATTACH;FMTTYPE=image/png:https://www.haarlemmerkweektuin.nl/wp-content/uploads/2024/03/repair-cafe-haarlem.png
END:VEVENT
BEGIN:VEVENT
DTSTART;TZID=Europe/Amsterdam:20240316T100000
DTEND;TZID=Europe/Amsterdam:20240316T170000
DTSTAMP:20260423T224504
CREATED:20240213T115246Z
LAST-MODIFIED:20240312T074220Z
UID:5311-1710583200-1710608400@www.haarlemmerkweektuin.nl
SUMMARY:Festivaldag voor jong en oud
DESCRIPTION:PROGRAMMA  Zaterdag 16 maart\nFestivaldag met leuke en leerzame activiteiten voor jong en oud\nAlles is gratis te bezoeken en opgeven is niet nodig\n  \n \n13:00\nTheatervoorstelling: Hermannosaurus Rex  6+\nKnotsgekke familievoorstelling over creativiteit\, duurzaamheid en het betere knutselwerk. \nLocatie: Palmenkas\nGratis entree \n  \n \n10:00-16:00  doorlopend\nHet Natuurlijk kleurenlab\, workshop voor alle leeftijden\nKom mee op ontdekkingstocht hoe je stof kan verven met restafval uit de keuken\, bloemen en planten. Door Marte Haverkamp\, kunstenaar gespecialiseerd in het natuurlijk verven van textiel. \nWitte gebouw\, hoofdkantoor van Natuur- en Milieueducatie \n  \n  \n \n10:00-16:00\nDe kids (tot 12 jaar) ruilmarkt door Motherhood\nBreng jouw oude speelgoed en kleding mee en maak een ander blij. Je mag maximaal 3 speelgoed items en 3 kleding items meenemen. Zorg ervoor dat deze mooi\, schoon en heel zijn zodat een ander kind er super blij van wordt.\nSchuif vooral ook aan bij de workshop “Super recycle helden”. \n  \n  \n \n11:00-16:00\nKledingruilbeurs voor dames\nGeef je kleding een tweede leven en ruil kledingstukken waar je een ander blij mee kunt maken!\nBreng maximaal 6 kwalitatieve kledingstukken of accessoires mee en ruil ze voor nieuwe schatten. \nHoe werkt het? \n\nBreng maximaal 6 kwalitatieve kledingstukken of accessoires mee en ruil ze voor nieuwe schatten.\nIngebrachte kledingstukken dienen schoon\, heel en van goede kwaliteit te zijn. Seizoen voorjaar-zomer.\nGeen items met vlekken\, scheuren of ernstige slijtage. Geen schoenen.\n\nWat kun je verwachten? \n\nEen scala aan stijlen\, van vintage tot modern.\nEen gezellige sfeer van delen en ruilen.\n\nWaar en wanneer? \n·      Datum: zaterdag 16 maart\n·      Tijd: 11:00-16:00 uur\n·      Locatie: in de Kweekstaat \nDoe mee aan onze kledingruilbeurs en help mee om een verschil te maken – voor onze ‘stijlvolle’ zelf en voor de wereld om ons heen 🌎 \n  \n  \n \n14:00-17:00\nProef de toekomst door School of Food\nKom langs\, ontdek het en onderzoek samen met onze chefs wat we in de toekomst eten.\nOntwerp je eigen popcornsmaak of maak een chocolade snack met insecten. Durf jij het aan? \nLocatie: Cactuskas \n  \n  \n \n10:00-16:00\nKringloopbedrijf Snuffelmug laat zien wat zij met oud textiel doen.\nTextiel als grondstof voor nieuwe artikelen\, het Textielsorteercentrum: de start van een nieuw leven. \nLocatie: In Het Groene Raadhuis in de Kweekstraat. \n  \n  \nMaak je eigen diadeem van reststoffen\nSamen met Judith van Xpozai maak jij van afgedankt spijkerbroeken\, gerecycled vilt en andere oude kleding een upcycle diadeem. Alles is voorradig\, maar zelf iets mee brengen mag natuurlijk ook. Voor iedereen die een naald kan hanteren. \nTijden:\n10-11uur\n12-13uur\n14-15uur \nBijdrage: €1.50/ graag contant\nMax 6 deelnemers per workshop \nLocatie: In Het Groene Raadhuis in de Kweekstraat. \n  \n  \n \n14.30-16.30\nPluche organiseert een handwerkclub in het Kweekcafé\nDe handwerkclub voor zaterdag 16 maart is vol\n \nDeelname is voor iedereen die van draadjes houdt en voor ieder niveau. \nNeem je eigen project mee en schuif gezellig aan! In de wolwinkel Pluche is gerecycled wol en katoen te koop. \nLocatie in het Kweekcafé \n  \n  \n \n13:00-16:00\nKraak de code naar een andere Mode!\nEr is steeds meer mode snel te krijgen voor een (te) lage prijs. Ons milieu betaalt hiervoor een hele hoge prijs. Wat moet je je dan voorstellen bij die enorme milieu impact van de kledingindustrie? Kom het te weten in deze escape kist. Help bij het oplossen van de vraag en kraak die code!\nVoor Ouder/kind vanaf 10 jaar. Het spel duurt tussen 50-90 min. Per groep kunnen max. 4 mensen aan de slag.\nOpgeven via nmeactiviteiten@haarlem.nl \nLocatie: Educatieruimte NME \n  \n 
URL:https://www.haarlemmerkweektuin.nl/agenda/ce-festivaldag-voor-jong-en-oud/
LOCATION:Haarlemmer Kweektuin\, Kleverlaan 9\, Haarlem\, Noord-Holland\, 2023 JC\, Nederland
ATTACH;FMTTYPE=image/png:https://www.haarlemmerkweektuin.nl/wp-content/uploads/2024/02/Screen-Shot-2024-01-29-at-09.37.25-e1707822729961.png
END:VEVENT
BEGIN:VEVENT
DTSTART;TZID=Europe/Amsterdam:20240315T110000
DTEND;TZID=Europe/Amsterdam:20240315T160000
DTSTAMP:20260423T224504
CREATED:20240213T114648Z
LAST-MODIFIED:20240311T135443Z
UID:5300-1710500400-1710518400@www.haarlemmerkweektuin.nl
SUMMARY:Festival Circulair in de Kweektuin
DESCRIPTION:PROGRAMMA Vrijdag 15 maart\n11:00-12:30\nNatuurlijke verf  Workshop (Volwassenen)\nOntdek welke kleuren er verstopt zitten in een uienschil.\nWe onderzoeken verschillende verftechnieken met rode en witte uienschillen. Neem eigen uien schillen mee.\nDe workshop wordt gegeven door Marte Haverkamp\, kunstenaar gespecialiseerd in het natuurlijk verven van textiel. \n \nDeelname is gratis\, wel aanmelden.\nBeperkt plek. Meld je snel aan door een mail te sturen naar nmeactiviteiten@haarlem.nl \nLocatie: Cactuskas naast het Kweekcafé. \n  \n14:00-16:00\nKintsugi Workshop (Volwassenen)\nKintsugi is de oude Japanse kunst waarbij je gebroken servies repareert met goudlijm\nLeer repareren en breng je kapotte servies mee.\nDe workshop wordt gegeven door Laura Baar van Kweekdesign. \n \nDeelname is gratis\, wel aanmelden.\nEr is beperkt plek. Meld je snel aan door een mail te sturen naar nmeactiviteiten@haarlem.nl \nLocatie: Cactuskas naast het Kweekcafé. \n  \n  \n  \n  \n 
URL:https://www.haarlemmerkweektuin.nl/agenda/de-week-van-circulaire-economie-activiteiten-in-de-kweektuin/
LOCATION:Haarlemmer Kweektuin\, Kleverlaan 9\, Haarlem\, Noord-Holland\, 2023 JC\, Nederland
ATTACH;FMTTYPE=image/jpeg:https://www.haarlemmerkweektuin.nl/wp-content/uploads/2024/02/Kintsugi-LauraBaar-e1724255131785.jpg
END:VEVENT
BEGIN:VEVENT
DTSTART;TZID=Europe/Amsterdam:20240315T100000
DTEND;TZID=Europe/Amsterdam:20240315T140000
DTSTAMP:20260423T224504
CREATED:20240311T124751Z
LAST-MODIFIED:20240311T135246Z
UID:5670-1710496800-1710511200@www.haarlemmerkweektuin.nl
SUMMARY:NLdoet Klussen op de Kweektuin
DESCRIPTION:NLdoet 10:00 – 14:00\nVrijdag 15 maart wordt er in het kader van NLdoet van 10 tot 14 uur door vrijwilligers gewerkt op het terrein. Er worden verschillende klussen gedaan; zoals het maken van een “arena” op het Plein met stoeptegels en natuurlijke mortel. Snoeien van de bamboeheg\, wilgenhutjes\, wilgen knotten langs het water en nog meer. \n 
URL:https://www.haarlemmerkweektuin.nl/agenda/nldoet-klussen-op-de-kweektuin/
LOCATION:Haarlemmer Kweektuin\, Kleverlaan 9\, Haarlem\, Noord-Holland\, 2023 JC\, Nederland
ATTACH;FMTTYPE=image/jpeg:https://www.haarlemmerkweektuin.nl/wp-content/uploads/2024/03/nldoet24posterdef.jpeg
END:VEVENT
BEGIN:VEVENT
DTSTART;TZID=Europe/Amsterdam:20240204T120000
DTEND;TZID=Europe/Amsterdam:20240204T160000
DTSTAMP:20260423T224504
CREATED:20240121T105815Z
LAST-MODIFIED:20240121T115507Z
UID:4793-1707048000-1707062400@www.haarlemmerkweektuin.nl
SUMMARY:Gluren bij de Buren
DESCRIPTION:Op zondag 4 februari is het weer Gluren bij de Buren\, de huiskamereditie.\nKom naar de Haarlemmer Kweektuin en geniet van wel drie verschillende acts. Drink en eet tussendoor wat in het gezellige Kweekcafé en je hebt een heerlijke culturele dag te midden van het groen. \nIn de Natuurhuiskamer staat de volgende act gepland:\nHet Mystieke Poëzie Circus door Wakker is een belevenis voor jong en oud.\nNeem plaats achter de typemachine en breng jouw ode aan de natuur!\nCreatief Collectief Wakker brengt een act met een opstelling met een typemachine waar het publiek gedichten en korte verhalen opschrijft\, deze worden verzameld en op een grappige\, theatrale of juist bedachtzame manier voorgedragen door de performers.\nDoorlopend tussen 12:00-16:00 \nIn de Palmenkas speelt AKOESTIX Vocal Friends\nKom luisteren en swingen er is genoeg plek.  “Hou je van bekende hits\, meerstemmig gezongen onder begeleiding van diverse muzikanten? Dan ben je bij ons aan het juiste adres. Mooie arrangementen overgoten met een AKOESTIX sausje\, heerlijk om naar te luisteren maar ook zeker om op te swingen. Van Adèle en ABBA\, tot Anita Meyer en Bruno Mars\, alles komt voorbij.”\nTijden: 12:45 / 14:15 / 15:45 uur \nIn het Kweekcafé zingt Koorbizniz\nNee\, Koorbizniz uit Haarlem weigert zich vocal group te noemen in plaats van koor. En nee\, het is geen koor dat houdt van verbinding en gezelligheid voor je het weet neem je jezelf als koor te serieus. Maakt de lol om te zingen plaats voor knellende ambitie. Een clubje dat zingt en laat beleven…bijna dan…\nTijden: 12:00 / 13:30 / 15:00 uur
URL:https://www.haarlemmerkweektuin.nl/agenda/gluren-bij-de-buren/
LOCATION:Haarlemmer Kweektuin\, Kleverlaan 9\, Haarlem\, Noord-Holland\, 2023 JC\, Nederland
ATTACH;FMTTYPE=image/png:https://www.haarlemmerkweektuin.nl/wp-content/uploads/2024/01/1-e1705837797391.png
END:VEVENT
BEGIN:VEVENT
DTSTART;TZID=Europe/Amsterdam:20231104T110000
DTEND;TZID=Europe/Amsterdam:20231104T150000
DTSTAMP:20260423T224504
CREATED:20231101T170115Z
LAST-MODIFIED:20231102T225808Z
UID:4048-1699095600-1699110000@www.haarlemmerkweektuin.nl
SUMMARY:De BioMarkt
DESCRIPTION:Op 4 november de laatste BioMarkt van dit jaar\, van 10 tot 15.00 uur.\nOnderstaande marktondernemers staan\, onder voorbehoud\, op de markt:\n\n\n\n\nBloemoloog met\nbiologische bloembollen\n\n\nBold Spices met\nallerlei gedroogde kruiden\n\n\nCantos met\nbiologische olijfolie ed\n\n\nHans Cordemeijer met\nworst\n\n\nde Gouden  Engel met\nmeel en kaas oa\n\n\nvan Dorp met\nbiologische geiten kaas\n\n\n Drawn by Dion met\nillustraties\n\n\nGreen and Blossom met\nsojakaarsen ed\n\n\nJanna Handgraaf met\nillustraties van Meneer LH Beestje\n\n\nJ’aime met\njam\n\n\nKwekerij Wiering met\nbiologische planten en kruidenplanten\n\n\nOesterzwammerij met\npaddenstoelen ed\n\n\nPeperkers met\ntaartjes en granola\n\n\nVihobio met\nbiowijn uit Portugal\n\n\nVirgils Good Coffee met\nkoffiebonen\n\n\nUiltje bier met\nbier\n\n\nWTG  met\ngroente\n\n\nYogi&Yoesef\nbiologische dadels
URL:https://www.haarlemmerkweektuin.nl/agenda/de-biomarkt/
LOCATION:Haarlemmer Kweektuin\, Kleverlaan 9\, Haarlem\, Noord-Holland\, 2023 JC\, Nederland
ATTACH;FMTTYPE=image/jpeg:https://www.haarlemmerkweektuin.nl/wp-content/uploads/2023/11/biomarkt-logo.jpg
END:VEVENT
BEGIN:VEVENT
DTSTART;TZID=Europe/Amsterdam:20231104T093000
DTEND;TZID=Europe/Amsterdam:20231104T170000
DTSTAMP:20260423T224504
CREATED:20231102T162711Z
LAST-MODIFIED:20231102T162711Z
UID:4179-1699090200-1699117200@www.haarlemmerkweektuin.nl
SUMMARY:Natuurwerkdag op de Kweektuin
DESCRIPTION:Dit jaar doen we weer mee aan de natuurwerkdag van de Landschappen. \nZaterdag 4 november gaan we van 10 tot 14 uur op de Kweektuin met allerlei klussen aan de slag. We verzamelen als vanouds in onze kas aan het Plein\, vanaf 9.30 uur staat de koffie klaar. \nWat gaan we zoal doen? \nGras maaien\, bij elkaar harken en wegbrengen\, boomopslag wegsteken uit de oostrand van het park en daar ook braam en klimop wegknippen\, baggeren bij de eilandjes op Paddenpoel\, buitenkant heg Terspijtstraat fatsoeneren\, bamboe knippen en nog meer. Er is veel te doen\, we kunnen je hulp goed gebruiken. \nDe lunch wordt verzorgd. \nHeb je zin om lekker buiten aan de slag te gaan\, doe dan mee en geef je op per mail: vrijwilligers@haarlemmerkweektuin.nl.  \nHopelijk wordt het goed weer op de werkdag\, maar mocht het anders uitpakken\, bij heel slecht weer wordt de werkdag afgeblazen. \nKleed je op het weer en stevige schoenen of laarzen zijn een aanrader. \nGraag tot 4 november. \nWerkgroep terrein \nStichting Haarlemmer Kweektuin
URL:https://www.haarlemmerkweektuin.nl/agenda/natuurwerkdag-op-de-kweektuin/
LOCATION:Haarlemmer Kweektuin\, Kleverlaan 9\, Haarlem\, Noord-Holland\, 2023 JC\, Nederland
ATTACH;FMTTYPE=image/jpeg:https://www.haarlemmerkweektuin.nl/wp-content/uploads/2022/11/photo_2022-11-16_19-39-00.jpg
END:VEVENT
BEGIN:VEVENT
DTSTART;TZID=Europe/Amsterdam:20231028T113000
DTEND;TZID=Europe/Amsterdam:20231104T150000
DTSTAMP:20260423T224504
CREATED:20231102T162453Z
LAST-MODIFIED:20231102T162844Z
UID:4176-1698492600-1699110000@www.haarlemmerkweektuin.nl
SUMMARY:EcoTrip en De Groene Man
DESCRIPTION:Tweede editie EcoTrip – 28 oktober t/m 5 november 2023 \nEcoTrip is een jaarlijks festival op het snijvlak van cultuur en klimaat. \nVier de herfst met Muziektheater De Groene Man\, bij festival ECOTRIP in de Haarlemmer Kweektuin. \nZaterdag 4 november\, 11:30 en 14:00. Duur ca. 30min. Gratis Toegang. \nMeer informatie op https://www.ecotripfestival.nl.
URL:https://www.haarlemmerkweektuin.nl/agenda/ecotrip-en-de-groene-man/
LOCATION:Haarlemmer Kweektuin\, Kleverlaan 9\, Haarlem\, Noord-Holland\, 2023 JC\, Nederland
ATTACH;FMTTYPE=image/png:https://www.haarlemmerkweektuin.nl/wp-content/uploads/2023/10/Ecotrip_logo_Kleur-2825094205.png
END:VEVENT
END:VCALENDAR