BEGIN:VCALENDAR
VERSION:2.0
PRODID:-//Kweektuin Haarlem - ECPv6.15.18//NONSGML v1.0//EN
CALSCALE:GREGORIAN
METHOD:PUBLISH
X-WR-CALNAME:Kweektuin Haarlem
X-ORIGINAL-URL:https://www.haarlemmerkweektuin.nl
X-WR-CALDESC:Evenementen voor Kweektuin Haarlem
REFRESH-INTERVAL;VALUE=DURATION:PT1H
X-Robots-Tag:noindex
X-PUBLISHED-TTL:PT1H
BEGIN:VTIMEZONE
TZID:Europe/Amsterdam
BEGIN:DAYLIGHT
TZOFFSETFROM:+0100
TZOFFSETTO:+0200
TZNAME:CEST
DTSTART:20250330T010000
END:DAYLIGHT
BEGIN:STANDARD
TZOFFSETFROM:+0200
TZOFFSETTO:+0100
TZNAME:CET
DTSTART:20251026T010000
END:STANDARD
BEGIN:DAYLIGHT
TZOFFSETFROM:+0100
TZOFFSETTO:+0200
TZNAME:CEST
DTSTART:20260329T010000
END:DAYLIGHT
BEGIN:STANDARD
TZOFFSETFROM:+0200
TZOFFSETTO:+0100
TZNAME:CET
DTSTART:20261025T010000
END:STANDARD
BEGIN:DAYLIGHT
TZOFFSETFROM:+0100
TZOFFSETTO:+0200
TZNAME:CEST
DTSTART:20270328T010000
END:DAYLIGHT
BEGIN:STANDARD
TZOFFSETFROM:+0200
TZOFFSETTO:+0100
TZNAME:CET
DTSTART:20271031T010000
END:STANDARD
END:VTIMEZONE
BEGIN:VEVENT
DTSTART;TZID=Europe/Amsterdam:20260321T110000
DTEND;TZID=Europe/Amsterdam:20260321T160000
DTSTAMP:20260423T232822
CREATED:20260221T153242Z
LAST-MODIFIED:20260221T153242Z
UID:11283-1774090800-1774108800@www.haarlemmerkweektuin.nl
SUMMARY:Kledingruilbeurs: voorjaar-zomer
DESCRIPTION:Doe mee aan onze dameskledingruilbeurs!  Scoor een nieuwe outfit en draag bij aan een duurzamere wereld – samen maken we het verschil! \nHoe werkt het \n\nBreng maximaal 6 kwalitatieve kledingstukken mee waar je iemand anders blij mee kunt maken\nAlleen dameskleding (geen accessoires en schoenen)\nSeizoen voorjaar-zomer\n\nWaarom meedoen? \n\nEen scala aan stijlen\nEen gezellige sfeer\nHelemaal gratis\nVerminder afval\n\nNeem je vriendinnen mee en kom ruilen. Wie weet ga jij naar huis met jouw nieuwe favoriete outfit.
URL:https://www.haarlemmerkweektuin.nl/agenda/kledingruilbeurs-voorjaar-zomer/
LOCATION:Harlemmer Kweektuin – in de palmenkas\, Kleverlaan 9\, Haarlem\, Netherlands
ATTACH;FMTTYPE=image/jpeg:https://www.haarlemmerkweektuin.nl/wp-content/uploads/2026/02/1b9ce53e-737d-4814-b735-8f0646ab32b6.jpeg
END:VEVENT
BEGIN:VEVENT
DTSTART;TZID=Europe/Amsterdam:20260404T100000
DTEND;TZID=Europe/Amsterdam:20260404T150000
DTSTAMP:20260423T232822
CREATED:20260324T205002Z
LAST-MODIFIED:20260403T143206Z
UID:11302-1775296800-1775314800@www.haarlemmerkweektuin.nl
SUMMARY:Kweekmarkt: elke eerste zaterdag van de maand\, 10:00 - 15:00 uur
DESCRIPTION:Kweekmarkt: elke eerste zaterdag van de maand\, 10:00 – 15:00 uur\nMaak kennis met de boeren en de makers. Proef en koop heerlijke ingrediënten en duurzame producten. Samen maken we de buurt leuker en gezelliger. Kom op de eerste zaterdag van de maand en neem je buren mee. KweekMARKT\, een groene en levendige markt! \n\nLokaal: Hoe dichterbij Haarlem geproduceerd hoe beter\nDuurzaam: Fijn als duidelijk is dat producten met respect voor aarde\, mens en dier worden geproduceerd. Keurmerk niet vereist.\nGezond: Eerlijke ingrediënten\, zonder chemische toevoegingen\, niet ultra-bewerkt.\nGemeenschap: Wat kunnen bezoekers leren van de producten en van de ondernemers? Is er sprake van sociaal ondernemerschap?\n\nAanbod: wat kun je kopen?\nWe streven naar een zo compleet mogelijk assortiment\, zodat jij jouw dagelijkse boodschappen op de Kweekmarkt kunt vinden.\nDenk aan groente\, fruit\, zuivel\, eieren\, brood & patisserie\, paddenstoelen\, fruitsappen\, gefermenteerde groente\, kombucha\, charcuterie\, kaas\, wijn en koffie. \nDaarnaast tref je ondernemers die je inspireren om te kiezen voor circulaire\, duurzame en ambachtelijke producten\, zoals biologische bloembollen\, kruiden\, huidverzorging\, boeken\, schoonmaakproducten\, planten\, illustraties en meer. \nContact\n\nVragen? Mail naar: info@kweekmarkt.nl\nMeer info op: kweekmarkt.nl
URL:https://www.haarlemmerkweektuin.nl/agenda/kweekmarkt-elke-eerste-zaterdag-van-de-maand-1000-1500-uur/
LOCATION:Haarlemmer Kweektuin\, Kleverlaan 9\, Haarlem\, Noord-Holland\, 2023 JC\, Nederland
ATTACH;FMTTYPE=image/jpeg:https://www.haarlemmerkweektuin.nl/wp-content/uploads/2026/03/kweekmarkt.jpg
END:VEVENT
BEGIN:VEVENT
DTSTART;TZID=Europe/Amsterdam:20260411T100000
DTEND;TZID=Europe/Amsterdam:20260411T160000
DTSTAMP:20260423T232822
CREATED:20260324T210447Z
LAST-MODIFIED:20260331T152620Z
UID:11304-1775901600-1775923200@www.haarlemmerkweektuin.nl
SUMMARY:Springer Festival 2026: Ontdek de natuur in de stad
DESCRIPTION:Het Springer Festival 2026: 11 april\, 10:00 – 16:00 uur\nOp zaterdag 11 april 2026 verandert de Haarlemmer Kweektuin in een natuurfestival. Bezoekers kunnen de stadse natuur met al hun zintuigen beleven: langs de hommelkoningin wandelen\, de plantenmarkt verkennen\, meedoen aan de insectenparade en deelnemen aan workshops over bijen\, teken\, geur en meer. Er is een gevarieerd programma voor jong en oud\, met inspiratie voor tuin‑ en balkonliefhebbers\, lokale eet‑ en drinkkraampjes en live muziek. \nKom langs\, ontdek de lente in al haar kleuren en geuren\, en laat je inspireren! \nBezoekersinfo\nDe toegang is gratis\, maar voor de workshops kan vooraf aanmelden nodig zijn. Meer informatie\, zoals het uitgebreide programma\, vind je op https://natuurtalenthaarlem.nl/aanbod/springer-festival/.
URL:https://www.haarlemmerkweektuin.nl/agenda/springer-festival-2026-ontdek-de-natuur-in-de-stad/
LOCATION:Haarlemmer Kweektuin\, Kleverlaan 9\, Haarlem\, Noord-Holland\, 2023 JC\, Nederland
ATTACH;FMTTYPE=image/png:https://www.haarlemmerkweektuin.nl/wp-content/uploads/2026/03/GH-springer-26-1.png
END:VEVENT
BEGIN:VEVENT
DTSTART;TZID=Europe/Amsterdam:20260509T100000
DTEND;TZID=Europe/Amsterdam:20260509T120000
DTSTAMP:20260423T232822
CREATED:20251019T102737Z
LAST-MODIFIED:20260411T181026Z
UID:9817-1778320800-1778328000@www.haarlemmerkweektuin.nl
SUMMARY:Repair Café: zaterdag 9 mei
DESCRIPTION:Repair Café: elke tweede zaterdag van de maand\, 10:00 - 12:00 uur\nLocatie (vanaf april 2026)\nKweektuin: achter het NME‑gebouw (momenteel in verbouwing)\, in de derde kas aan de linkerkant. \nWat we doen\nOnze vrijwilligers helpen je graag bij het achterhalen van het defect en voeren kleine reparaties uit\, zoals: \n\nSoldeerwerk aan losse draden\nHet (leren) plakken van een lekke fietsband\nHet vastzetten van een loszittende stoelpoot\nHerstel van houten speelgoed (bijvoorbeeld een hobbelpaard)\n\nZo krijgt jouw bezit een tweede leven en hoef je geen nieuwe spullen aan te schaffen! \nSpeciale expertise\n\nLinux‑ondersteuning: Een vrijwilliger met verstand van Linux staat klaar om Linux op je laptop te installeren en vragen te beantwoorden.\nZilversmid: Nieuw! Vanaf april 2026 is er een zilversmid aanwezig voor reparaties aan zilveren voorwerpen.\n\nWat we niet repareren\nHet Repair Café is niet voor het inkorten van kleding; hiervoor kun je terecht bij de winkel of een naaiatelier. Voor een gat in een broek kun je wel bij ons terecht; wij repareren dit zichtbaar of juist zo onzichtbaar mogelijk. \nBenodigde onderdelen\nMocht een onderdeel vervangen moeten worden\, neem dit dan zelf mee of bespreek de vervanging vooraf met de reparateur. \nAanmelden\nInschrijving is niet nodig; kom gewoon langs! \nContact\n\nVragen? Stuur een e‑mail naar repaircafe@haarlemmerkweektuin.nl\nMeer algemene informatie: www.repaircafe.org
URL:https://www.haarlemmerkweektuin.nl/agenda/repaircafe-13-december-in-het-posthuis-zaanenpark/
LOCATION:Haarlemmer Kweektuin\, Kleverlaan 9\, Haarlem\, Noord-Holland\, 2023 JC\, Nederland
ATTACH;FMTTYPE=image/webp:https://www.haarlemmerkweektuin.nl/wp-content/uploads/2025/09/Repair-Cafe-2e-zaterdag-vd-maand.png.webp
END:VEVENT
END:VCALENDAR